BEGIN:VCALENDAR
VERSION:2.0
PRODID:-//MWANGAZA WA UPENDO - ECPv6.15.17.1//NONSGML v1.0//EN
CALSCALE:GREGORIAN
METHOD:PUBLISH
X-WR-CALNAME:MWANGAZA WA UPENDO
X-ORIGINAL-URL:https://mwangazaupendo.org
X-WR-CALDESC:Events for MWANGAZA WA UPENDO
REFRESH-INTERVAL;VALUE=DURATION:PT1H
X-Robots-Tag:noindex
X-PUBLISHED-TTL:PT1H
BEGIN:VTIMEZONE
TZID:UTC
BEGIN:STANDARD
TZOFFSETFROM:+0000
TZOFFSETTO:+0000
TZNAME:UTC
DTSTART:20240101T000000
END:STANDARD
END:VTIMEZONE
BEGIN:VEVENT
DTSTART;TZID=UTC:20250812T080000
DTEND;TZID=UTC:20250812T130000
DTSTAMP:20260421T082329
CREATED:20241201T020925Z
LAST-MODIFIED:20241201T021245Z
UID:1086-1754985600-1755003600@mwangazaupendo.org
SUMMARY:African Organic Foods Available 2025
DESCRIPTION:Light Of Love Community Garden:  \n\n\n\nSince 2022\, Mwangaza Wa Upendo has been operating the garden initiative\, providing the resources and support to the community. We are planning an event in August 2025 to empower refugees in Grand Rapids with entrepreneurship skills and promote self-sufficiency through the use of African food and vegetables.
URL:https://mwangazaupendo.org/event/african-organic-foods-available-2025/
LOCATION:Mwangaza Wa Upendo\, 2911 E Ave SE\,\, Grand Rapids\, 49508
ORGANIZER;CN="Walende Aenga":MAILTO:email@mwangazaupendo.org
END:VEVENT
END:VCALENDAR